BEGIN:VCALENDAR
VERSION:2.0
PRODID:-//wp-events-plugin.com//7.2.3.1//EN
TZID:America/Vancouver
X-WR-TIMEZONE:America/Vancouver
BEGIN:VEVENT
UID:42@nevr.org
DTSTART;TZID=America/Vancouver:20241003T190000
DTEND;TZID=America/Vancouver:20241003T200000
DTSTAMP:20240901T002737Z
URL:https://nevr.org/events/nevr-agm-oct-3/
SUMMARY:NEVR AGM Oct 3
DESCRIPTION:NEVPR AGM is October 3\, 2024 at 7PM it is virtual. Please requ
 est link if you did not receive one.\n\nGues speaker: Dr. Jennifer Marchba
 nk\n\nTopic:  Understanding SOGI basics
CATEGORIES:Meetings
END:VEVENT
BEGIN:VTIMEZONE
TZID:America/Vancouver
X-LIC-LOCATION:America/Vancouver
BEGIN:DAYLIGHT
DTSTART:20240310T030000
TZOFFSETFROM:-0800
TZOFFSETTO:-0700
TZNAME:PDT
END:DAYLIGHT
END:VTIMEZONE
END:VCALENDAR